BEGIN:VCALENDAR
CALSCALE:GREGORIAN
VERSION:2.0
X-WR-CALNAME:13. OpenShift Anwendertreffen (Virtual Event)
METHOD:PUBLISH
PRODID:-//Apple Inc.//Mac OS X 10.15.6//EN
BEGIN:VTIMEZONE
TZID:Europe/Berlin
BEGIN:DAYLIGHT
TZOFFSETFROM:+0100
RRULE:FREQ=YEARLY;BYMONTH=3;BYDAY=-1SU
DTSTART:19810329T020000
TZNAME:CEST
TZOFFSETTO:+0200
END:DAYLIGHT
BEGIN:STANDARD
TZOFFSETFROM:+0200
RRULE:FREQ=YEARLY;BYMONTH=10;BYDAY=-1SU
DTSTART:19961027T030000
TZNAME:CET
TZOFFSETTO:+0100
END:STANDARD
END:VTIMEZONE
BEGIN:VEVENT
TRANSP:OPAQUE
DTEND;TZID=Europe/Berlin:20200930T170000
UID:CC6953E5-63B5-4D60-AB99-8CDE216EDB70
DTSTAMP:20200907T151723Z
LOCATION:https://www.openshift-anwender.de/live
DESCRIPTION:Alle Infos zur Veranstaltung und der Agenda findet ihr auf u
 nserer Homepage unter https://www.openshift-anwender.de/live/\n\nDie Key
 note Stage für unsere Veranstaltung erreicht ihr unter der folgenden URL
  über euren Desktop PC / MAC: https://primetime.bluejeans.com/a2m/live-e
 vent/uxbycves \n\nLive Chat während des gesamten Events: https://openshi
 ft-de.slack.com/archives/C01ADTKGD8C
STATUS:CONFIRMED
SEQUENCE:0
SUMMARY:13. OpenShift Anwendertreffen (Virtual Event)
LAST-MODIFIED:20200907T151723Z
DTSTART;TZID=Europe/Berlin:20200930T110000
CREATED:20200907T145659Z
X-APPLE-TRAVEL-ADVISORY-BEHAVIOR:AUTOMATIC
BEGIN:VALARM
UID:FD150554-532F-4170-9AB6-910BE114A73B
ACTION:DISPLAY
DESCRIPTION:This is an event reminder
ACKNOWLEDGED:20200526T085420Z
TRIGGER:-PT10M
X-WR-ALARMUID:FD150554-532F-4170-9AB6-910BE114A73B
END:VALARM
BEGIN:VALARM
UID:D61A54FC-D3FF-4E89-AF9F-884870C8F6F8
ACTION:AUDIO
TRIGGER:-PT30M
ACKNOWLEDGED:20200526T085420Z
ATTACH;VALUE=URI:Chord
X-WR-ALARMUID:D61A54FC-D3FF-4E89-AF9F-884870C8F6F8
END:VALARM
END:VEVENT
END:VCALENDAR
